BEGIN:VCALENDAR
VERSION:2.0
PRODID:-//Tukios.com/
BEGIN:VEVENT
UID:cd893f89-b324-442d-b2eb-6f44d1aac369@www.parklawnfunerals.com
DTSTAMP:20260423T051229Z
DTSTART:20260516T180000Z
DTEND:20260516T190000Z
SUMMARY:Celebration of Life
DESCRIPTION:
URL:https://www.parklawnfunerals.com/obituaries/ben-dusenbery
LOCATION:Claycomo Community Center 28 Drake St  KCMO MO 64119
GEO:39.1975784;-94.5036163
END:VEVENT
END:VCALENDAR