BEGIN:VCALENDAR
VERSION:2.0
PRODID:-//Tukios.com/
BEGIN:VEVENT
UID:60f6a9e0-edfd-4294-9c26-df89767ce6d7@www.parklawnfunerals.com
DTSTAMP:20260421T185455Z
DTSTART:20260425T190000Z
DTEND:20260425T200000Z
SUMMARY:Celebration of Life
DESCRIPTION:A celebration of Cheryl’s life will be held 2:00pn 
	Saturday, April 25, 2026 at Park Lawn Northland Chapel (1640 Route 291 
	Highway, Liberty, MO 64068)
URL:https://www.parklawnfunerals.com/obituaries/cheryl-capell
LOCATION: 1640 Route 291  Liberty MO 64068
GEO:39.2675216;-94.4530862
END:VEVENT
END:VCALENDAR