BEGIN:VCALENDAR
VERSION:2.0
PRODID:-//Tukios.com/
BEGIN:VEVENT
UID:3f31fe10-d113-437e-a1d5-550f524df9dc@www.parklawnfunerals.com
DTSTAMP:20260421T134839Z
DTSTART:20260516T160000Z
DTEND:20260516T190000Z
SUMMARY:Memorial Service Followed By Reception Reserved For Family
DESCRIPTION:
URL:https://www.parklawnfunerals.com/obituaries/jennifer-everhart
LOCATION: 1640 Route 291  Liberty MO 64068
GEO:39.2675216;-94.4530862
END:VEVENT
END:VCALENDAR