BEGIN:VCALENDAR
VERSION:2.0
PRODID:-//Tukios.com/
BEGIN:VEVENT
UID:a7117db6-402d-4e2d-ad1d-5962e727f0a0@www.parklawnfunerals.com
DTSTAMP:20260424T014948Z
DTSTART:20260502T220000Z
DTEND:20260503T010000Z
SUMMARY:Celebration of Life
DESCRIPTION:
URL:https://www.parklawnfunerals.com/obituaries/kathryn-morton
LOCATION:Tomahawk Ridge Community Center 11902 Lowell Avenue  Overland 
	Park KS 66213
GEO:38.9122162;-94.6779636
END:VEVENT
END:VCALENDAR