BEGIN:VCALENDAR
VERSION:2.0
PRODID:-//Tukios.com/
BEGIN:VEVENT
UID:5debb0e3-580f-4912-8d74-0c6b08f3a68e@www.parklawnfunerals.com
DTSTAMP:20260422T111807Z
DTSTART:20260504T170000Z
DTEND:20260504T180000Z
SUMMARY:Visitation
DESCRIPTION:
URL:https://www.parklawnfunerals.com/obituaries/marilyn-childs
LOCATION: 8251 Hillcrest Rd  Kansas City MO 64138
GEO:38.9753535;-94.5199453
END:VEVENT
END:VCALENDAR