BEGIN:VCALENDAR
VERSION:2.0
PRODID:-//Tukios.com/
BEGIN:VEVENT
UID:c0e138c5-ab7a-4f7c-b339-4e952f75db32@www.parklawnfunerals.com
DTSTAMP:20260422T112106Z
DTSTART:20260504T180000Z
DTEND:20260504T190000Z
SUMMARY:Funeral Service
DESCRIPTION:
URL:https://www.parklawnfunerals.com/obituaries/marilyn-childs
LOCATION: 8251 Hillcrest Rd  Kansas City MO 64138
GEO:38.9753535;-94.5199453
END:VEVENT
END:VCALENDAR