BEGIN:VCALENDAR
VERSION:2.0
PRODID:-//Tukios.com/
BEGIN:VEVENT
UID:1088bddc-ed06-41b6-abeb-05e6f19c1888@www.parklawnfunerals.com
DTSTAMP:20260419T182129Z
DTSTART:20260501T170000Z
DTEND:20260501T180000Z
SUMMARY:Visitation
DESCRIPTION:
URL:https://www.parklawnfunerals.com/obituaries/terri-lewis
LOCATION: 8251 Hillcrest Rd  Kansas City MO 64138
GEO:38.9753535;-94.5199453
END:VEVENT
END:VCALENDAR