BEGIN:VCALENDAR
VERSION:2.0
PRODID:-//Tukios.com/
BEGIN:VEVENT
UID:7195b076-2720-44e5-93a5-bab69a26a3a0@www.parklawnfunerals.com
DTSTAMP:20260419T182029Z
DTSTART:20260501T180000Z
DTEND:20260501T190000Z
SUMMARY:Funeral Service
DESCRIPTION:
URL:https://www.parklawnfunerals.com/obituaries/terri-lewis
LOCATION: 8251 Hillcrest Rd  Kansas City MO 64138
GEO:38.9753535;-94.5199453
END:VEVENT
END:VCALENDAR