BEGIN:VCALENDAR
VERSION:2.0
PRODID:-//Tukios.com/
BEGIN:VEVENT
UID:c91a8729-f92b-499e-ae0a-688261340dad@www.parklawnfunerals.com
DTSTAMP:20260419T182029Z
DTSTART:20260501
SUMMARY:Interment
DESCRIPTION:
URL:https://www.parklawnfunerals.com/obituaries/terri-lewis
LOCATION: 8251 Hillcrest Rd  Kansas City MO 64138
GEO:38.9753535;-94.5199453
END:VEVENT
END:VCALENDAR