BEGIN:VCALENDAR
VERSION:2.0
PRODID:-//Tukios.com/
BEGIN:VEVENT
UID:45785a6c-d56e-4b17-b712-dac4aa7b24b6@www.parklawnfunerals.com
DTSTAMP:20260421T181522Z
DTSTART:20260428T160000Z
DTEND:20260428T173000Z
SUMMARY:Celebration of Life
DESCRIPTION:
URL:https://www.parklawnfunerals.com/obituaries/theresa-mcclellan
LOCATION: 1640 Route 291  Liberty MO 64068
GEO:39.2675216;-94.4530862
END:VEVENT
END:VCALENDAR